BEGIN:VCALENDAR
VERSION:2.0
PRODID:-// - ECPv6.15.20//NONSGML v1.0//EN
CALSCALE:GREGORIAN
METHOD:PUBLISH
X-ORIGINAL-URL:http://csu-karlskron.de
X-WR-CALDESC:Veranstaltungen für 
REFRESH-INTERVAL;VALUE=DURATION:PT1H
X-Robots-Tag:noindex
X-PUBLISHED-TTL:PT1H
BEGIN:VTIMEZONE
TZID:Europe/Berlin
BEGIN:DAYLIGHT
TZOFFSETFROM:+0100
TZOFFSETTO:+0200
TZNAME:CEST
DTSTART:20180325T010000
END:DAYLIGHT
BEGIN:STANDARD
TZOFFSETFROM:+0200
TZOFFSETTO:+0100
TZNAME:CET
DTSTART:20181028T010000
END:STANDARD
BEGIN:DAYLIGHT
TZOFFSETFROM:+0100
TZOFFSETTO:+0200
TZNAME:CEST
DTSTART:20190331T010000
END:DAYLIGHT
BEGIN:STANDARD
TZOFFSETFROM:+0200
TZOFFSETTO:+0100
TZNAME:CET
DTSTART:20191027T010000
END:STANDARD
BEGIN:DAYLIGHT
TZOFFSETFROM:+0100
TZOFFSETTO:+0200
TZNAME:CEST
DTSTART:20200329T010000
END:DAYLIGHT
BEGIN:STANDARD
TZOFFSETFROM:+0200
TZOFFSETTO:+0100
TZNAME:CET
DTSTART:20201025T010000
END:STANDARD
BEGIN:DAYLIGHT
TZOFFSETFROM:+0100
TZOFFSETTO:+0200
TZNAME:CEST
DTSTART:20210328T010000
END:DAYLIGHT
BEGIN:STANDARD
TZOFFSETFROM:+0200
TZOFFSETTO:+0100
TZNAME:CET
DTSTART:20211031T010000
END:STANDARD
BEGIN:DAYLIGHT
TZOFFSETFROM:+0100
TZOFFSETTO:+0200
TZNAME:CEST
DTSTART:20220327T010000
END:DAYLIGHT
BEGIN:STANDARD
TZOFFSETFROM:+0200
TZOFFSETTO:+0100
TZNAME:CET
DTSTART:20221030T010000
END:STANDARD
BEGIN:DAYLIGHT
TZOFFSETFROM:+0100
TZOFFSETTO:+0200
TZNAME:CEST
DTSTART:20230326T010000
END:DAYLIGHT
BEGIN:STANDARD
TZOFFSETFROM:+0200
TZOFFSETTO:+0100
TZNAME:CET
DTSTART:20231029T010000
END:STANDARD
BEGIN:DAYLIGHT
TZOFFSETFROM:+0100
TZOFFSETTO:+0200
TZNAME:CEST
DTSTART:20240331T010000
END:DAYLIGHT
BEGIN:STANDARD
TZOFFSETFROM:+0200
TZOFFSETTO:+0100
TZNAME:CET
DTSTART:20241027T010000
END:STANDARD
BEGIN:DAYLIGHT
TZOFFSETFROM:+0100
TZOFFSETTO:+0200
TZNAME:CEST
DTSTART:20250330T010000
END:DAYLIGHT
BEGIN:STANDARD
TZOFFSETFROM:+0200
TZOFFSETTO:+0100
TZNAME:CET
DTSTART:20251026T010000
END:STANDARD
BEGIN:DAYLIGHT
TZOFFSETFROM:+0100
TZOFFSETTO:+0200
TZNAME:CEST
DTSTART:20260329T010000
END:DAYLIGHT
BEGIN:STANDARD
TZOFFSETFROM:+0200
TZOFFSETTO:+0100
TZNAME:CET
DTSTART:20261025T010000
END:STANDARD
BEGIN:DAYLIGHT
TZOFFSETFROM:+0100
TZOFFSETTO:+0200
TZNAME:CEST
DTSTART:20270328T010000
END:DAYLIGHT
BEGIN:STANDARD
TZOFFSETFROM:+0200
TZOFFSETTO:+0100
TZNAME:CET
DTSTART:20271031T010000
END:STANDARD
END:VTIMEZONE
BEGIN:VEVENT
DTSTART;TZID=Europe/Berlin:20260308T080000
DTEND;TZID=Europe/Berlin:20260308T180000
DTSTAMP:20260421T171830
CREATED:20260106T130253Z
LAST-MODIFIED:20260106T130253Z
UID:2204-1772956800-1772992800@csu-karlskron.de
SUMMARY:Kommunalwahl 08.03.2026
DESCRIPTION:
URL:http://csu-karlskron.de/event/kommunalwahl-08-03-2026/
END:VEVENT
BEGIN:VEVENT
DTSTART;TZID=Europe/Berlin:20260227T183000
DTEND;TZID=Europe/Berlin:20260227T230000
DTSTAMP:20260421T171830
CREATED:20251217T101821Z
LAST-MODIFIED:20251217T101821Z
UID:2166-1772217000-1772233200@csu-karlskron.de
SUMMARY:Schafkopfturnier
DESCRIPTION:
URL:http://csu-karlskron.de/event/schafkopfturnier-3/
LOCATION:Gasthof Felber
END:VEVENT
BEGIN:VEVENT
DTSTART;VALUE=DATE:20260218
DTEND;VALUE=DATE:20260219
DTSTAMP:20260421T171830
CREATED:20260106T130203Z
LAST-MODIFIED:20260106T130203Z
UID:2202-1771372800-1771459199@csu-karlskron.de
SUMMARY:politischer Aschermittwoch in Passau
DESCRIPTION:
URL:http://csu-karlskron.de/event/politischer-aschermittwoch-in-passau-2/
END:VEVENT
BEGIN:VEVENT
DTSTART;TZID=Europe/Berlin:20260210T190000
DTEND;TZID=Europe/Berlin:20260210T230000
DTSTAMP:20260421T171830
CREATED:20260118T144038Z
LAST-MODIFIED:20260118T144038Z
UID:2219-1770750000-1770764400@csu-karlskron.de
SUMMARY:Wahlversammlung Aschelsried 10.02.26
DESCRIPTION:
URL:http://csu-karlskron.de/event/wahlversammlung-aschelsried-10-02-26/
LOCATION:Gasthof Felber
END:VEVENT
BEGIN:VEVENT
DTSTART;TZID=Europe/Berlin:20260208T130000
DTEND;TZID=Europe/Berlin:20260208T170000
DTSTAMP:20260421T171830
CREATED:20260118T143955Z
LAST-MODIFIED:20260118T143955Z
UID:2217-1770555600-1770570000@csu-karlskron.de
SUMMARY:Wahlversammlung Mändlfeld 08.02.26
DESCRIPTION:Kramerstraße Ecke Rosengasse
URL:http://csu-karlskron.de/event/wahlversammlung-maendlfeld-08-02-26/
END:VEVENT
BEGIN:VEVENT
DTSTART;TZID=Europe/Berlin:20260205T190000
DTEND;TZID=Europe/Berlin:20260205T230000
DTSTAMP:20260421T171830
CREATED:20260118T143902Z
LAST-MODIFIED:20260118T143902Z
UID:2214-1770318000-1770332400@csu-karlskron.de
SUMMARY:Wahlversammlung Karlskron 05.02.26
DESCRIPTION:
URL:http://csu-karlskron.de/event/wahlversammlung-karlskron-05-02-26/
LOCATION:Landgasthof Haas\, Hauptstrasse 33\, Karlskron\, Bayern\, 85123\, Deutschland
END:VEVENT
BEGIN:VEVENT
DTSTART;TZID=Europe/Berlin:20260204T190000
DTEND;TZID=Europe/Berlin:20260204T230000
DTSTAMP:20260421T171830
CREATED:20260118T143802Z
LAST-MODIFIED:20260118T143915Z
UID:2210-1770231600-1770246000@csu-karlskron.de
SUMMARY:Wahlversammlung Pobenhausen 04.02.26
DESCRIPTION:
URL:http://csu-karlskron.de/event/wahlversammlung-pobenhausen/
LOCATION:Bürgerhaus Pobenhausen\, Schrobenhausener Straße 10\, Karlskron - Pobenhausen\, 85123\, Deutschland
END:VEVENT
BEGIN:VEVENT
DTSTART;TZID=Europe/Berlin:20251207T180000
DTEND;TZID=Europe/Berlin:20251207T230000
DTSTAMP:20260421T171830
CREATED:20251113T123700Z
LAST-MODIFIED:20251113T123843Z
UID:2135-1765130400-1765148400@csu-karlskron.de
SUMMARY:Ortshauptversammlung Kommunalwahl 2026
DESCRIPTION:Liebe Mitglieder des Ortsverbandes Karlskron\, \nsehr geehrte Damen und Herren\, \nhiermit lade ich Sie ganz herzlich ein zu unserer \nOrtshauptversammlung zur Aufstellung eines Bürgermeisterkandidaten und zur Aufstellung der Gemeinderatsliste für die Kommunalwahl 2026 \nam \n7. Dezember 2025\, 18:00 Uhr beim Landgasthof Haas \nDiesen besonderen Abend möchten wir mit unserer Weihnachtsfeier kombinieren\, so dass wir den Abend beim Landgasthof Haas mit Glühweinempfang beginnen werden und nach der Nominierungsveranstaltung in den besinnlichen Teil übergehen und ausklingen lassen. \nTagesordnung: \n\nEröffnung und Begrüßung\nBerichte und Grußworte\nWahlen\n\nBildung eines Wahlausschusses\nWahl des Bewerbers für die Bürgermeisterwahl\nWahl der Bewerber für die Gemeinderatswahl\nBestellung eines Beauftragten für die Wahlvorschläge und seines Stellvertreters\nBestellung von mindestens zehn Wahlberechtigten zur Unterzeichnung der Wahlvorschläge\nBestellung von zwei Wahlberechtigten zur Unterzeichnung der Niederschrift\n\n\nWünsche und Anträge\n\nSowohl mit der Nominierung unseres Bürgermeisterkandidaten als auch mit der Aufstellung unserer Kandidatinnen und Kandidaten für den Gemeinderat nehmen wir entscheidende Weichenstellungen für ein erfolgreiches Abschneiden bei den Wahlen am 08. März 2026 vor. Daher bitte ich Sie im Namen des gesamten Ortsvorstandes\, an unserer Ortshauptversammlung teilzunehmen und unsere Kandidatinnen und Kandidaten zu unterstützen. Bringen Sie auch gerne Ihre Partnerin oder Partner mit. Sie alle sind herzlich willkommen. \nIhnen und Ihrer Familie wünscht die gesamte Vorstandschaft der CSU bereits jetzt eine besinnliche Adventszeit und ein gesegnetes Weihnachtsfest. \nMit freundlichen Grüßen \nIhr \nStefan Kumpf \nOrtsvorsitzender der CSU Karlskron
URL:http://csu-karlskron.de/event/ortshauptversammlung-kommunalwahl-2026/
LOCATION:Landgasthof Haas\, Hauptstrasse 33\, Karlskron\, Bayern\, 85123\, Deutschland
END:VEVENT
BEGIN:VEVENT
DTSTART;TZID=Europe/Berlin:20250314T190000
DTEND;TZID=Europe/Berlin:20250314T230000
DTSTAMP:20260421T171830
CREATED:20250222T094948Z
LAST-MODIFIED:20250222T094948Z
UID:2087-1741978800-1741993200@csu-karlskron.de
SUMMARY:Ortshauptversammlung mit Neuwahlen
DESCRIPTION:Sehr geehrte Damen und Herren\,\nliebe Parteifreunde\, \nhiermit lade ich Sie herzlich ein zu unserer \nOrtshauptversammlung mit Neuwahlen\nam 14. März 2025 um 19:00 Uhr beim Landgasthof Haas \nTagesordnung: \n1. Eröffnung und Begrüßung\n2. Totengedenken\n3. Wahlen\n3.1 Bildung eines Wahlausschusses\n3.2 Arbeitsbericht des Ortsvorstandes\n3.3 Finanzieller Rechenschaftsbericht\, Bericht der Kassenprüfer\n3.4 Bericht der kommunalen Mandatsträgerinnen und Mandatsträger im Ortsverband\n3.5 Bericht über Mitgliederentwicklung sowie über die Teilhabe von Frauen\, jungen Menschen und Menschen mit Behinderung\n– Aussprache zu den Berichten –\n3.6 Entlastung des Ortsvorstandes\n3.7 Neuwahlen\na) Wahl der Mitglieder des Ortsvorstandes (Ortsvorsitzender\, Stellvertreter\, Schatzmeister\, Schriftführer\, Digitalbeauftragter\, Beisitzer)\nb) Wahl von 2 Kassenprüfern\nc) Wahl der Delegierten und Ersatzdelegierten in die Kreisvertreterversammlung\n4. Mitgliederehrungen\n5. Verschiedenes \nEs würde mich sehr freuen\, wenn ich Sie alle persönlich begrüßen könnte. \nMit freundlichen Grüßen \nStefan Kumpf\nOrtsvorsitzender
URL:http://csu-karlskron.de/event/ortshauptversammlung-mit-neuwahlen/
LOCATION:Landgasthof Haas\, Hauptstrasse 33\, Karlskron\, Bayern\, 85123\, Deutschland
END:VEVENT
BEGIN:VEVENT
DTSTART;TZID=Europe/Berlin:20250221T183000
DTEND;TZID=Europe/Berlin:20250221T220000
DTSTAMP:20260421T171830
CREATED:20241120T135541Z
LAST-MODIFIED:20241120T135541Z
UID:2050-1740162600-1740175200@csu-karlskron.de
SUMMARY:Schafkopfturnier 2025
DESCRIPTION:
URL:http://csu-karlskron.de/event/schafkopfturnier-2025/
LOCATION:Gasthof Felber
END:VEVENT
BEGIN:VEVENT
DTSTART;TZID=Europe/Berlin:20241129T180000
DTEND;TZID=Europe/Berlin:20241129T230000
DTSTAMP:20260421T171830
CREATED:20241120T135319Z
LAST-MODIFIED:20241120T135319Z
UID:2048-1732903200-1732921200@csu-karlskron.de
SUMMARY:Weihnachtsfeier 2024
DESCRIPTION:
URL:http://csu-karlskron.de/event/weihnachtsfeier-2024/
LOCATION:Landgasthof Haas\, Hauptstrasse 33\, Karlskron\, Bayern\, 85123\, Deutschland
END:VEVENT
BEGIN:VEVENT
DTSTART;TZID=Europe/Berlin:20240429T183000
DTEND;TZID=Europe/Berlin:20240429T220000
DTSTAMP:20260421T171830
CREATED:20240321T155738Z
LAST-MODIFIED:20240321T155738Z
UID:1976-1714415400-1714428000@csu-karlskron.de
SUMMARY:Ortshauptversammlung 2024
DESCRIPTION:Sehr geehrte Damen und Herren\, \nliebe Parteifreunde\, \n  \nhiermit lade ich Sie herzlich ein zu unserer \n  \nOrtshauptversammlung  am 29. April 2024\, 18:30 Uhr \nLandgasthof Haas\, Hauptstr. 33\, Karlskron \n  \nTagesordnung: \n  \n\nEröffnung und Begrüßung\nArbeitsbericht des Ortsvorstandes\nFinanzieller Rechenschaftsbericht\, Bericht der Kassenprüfer\nBericht der kommunalen Mandatsträgerinnen und Mandatsträger im Ortsverband – Aussprache zu den Berichten –\nBildung eines Wahlausschusses\nWahl der Delegierten und Ersatzdelegierten in die besondere (Teil-) Kreisvertreterversammlung zur Bundestagswahl\nEhrungen\nEuropawahl – mit den Kandidaten Martina Fischer und Moritz Knöferl\nKommunalwahl 2026\nVerschiedenes\n\n  \nEs würde mich sehr freuen\, wenn ich Sie alle persönlich begrüßen könnte. \nMit freundlichen Grüßen \nIhr \nStefan Kumpf \nOrtsvorsitzender
URL:http://csu-karlskron.de/event/ortshauptversammlung-2024/
LOCATION:Landgasthof Haas\, Hauptstrasse 33\, Karlskron\, Bayern\, 85123\, Deutschland
END:VEVENT
BEGIN:VEVENT
DTSTART;TZID=Europe/Berlin:20240223T183000
DTEND;TZID=Europe/Berlin:20240223T220000
DTSTAMP:20260421T171830
CREATED:20240117T112930Z
LAST-MODIFIED:20240128T100212Z
UID:1956-1708713000-1708725600@csu-karlskron.de
SUMMARY:Schafkopfturnier 2024
DESCRIPTION:
URL:http://csu-karlskron.de/event/schafkopfturnier-2024/
LOCATION:Gasthof Felber
END:VEVENT
BEGIN:VEVENT
DTSTART;TZID=Europe/Berlin:20231109T183000
DTEND;TZID=Europe/Berlin:20231109T210000
DTSTAMP:20260421T171830
CREATED:20231018T101805Z
LAST-MODIFIED:20231018T101805Z
UID:1939-1699554600-1699563600@csu-karlskron.de
SUMMARY:Veranstaltung: Erben und Vererben
DESCRIPTION:
URL:http://csu-karlskron.de/event/veranstaltung-erben-und-vererben/
LOCATION:Landgasthof Haas\, Hauptstrasse 33\, Karlskron\, Bayern\, 85123\, Deutschland
END:VEVENT
BEGIN:VEVENT
DTSTART;TZID=Europe/Berlin:20230419T190000
DTEND;TZID=Europe/Berlin:20230419T220000
DTSTAMP:20260421T171830
CREATED:20230401T152000Z
LAST-MODIFIED:20230401T152000Z
UID:1900-1681930800-1681941600@csu-karlskron.de
SUMMARY:Mitgliederversammlung mit Neuwahlen JU Karlskron 19. April 2023
DESCRIPTION:Liebe JU ler\, \nzu unserer Mitgliederversammlung mit Neuwahlen am \nMittwoch den 19. April 2023 um 19:00 Uhr  \nim Landgasthof Haas lade ich euch herzlich ein. \nDie Tagesordnung besteht aus folgenden Punkten:\n1. Eröffnung und Begrüßung\n2. Bildung eines Wahlausschusses\n3. Bericht der Ortsvorsitzenden\n4. Bericht des Schatzmeisters und des Kassenprüfers\n5. Aussprache zu den Berichten\n6. Entlastung der Vorstandschaft\n7. Neuwahlen\na. Ortsvorsitzende/r\nb. stellvertretende/r Vorsitzende/r\nc. Schatzmeister/in\nd. Schriftführer/in\ne. bis zu sechs weiter Mitglieder\nf. Kassenprüfer/in\ng. Delegierte und Ersatzdelegierte zur Kreisdelegiertenversammlung\n8. Verschiedenes\, Wünsche\, Anträge \nAuf eine rege Teilnahme freut sich die Vorstandschaft \ni.v. Christopher Doppler\nOrtsvorsitzender
URL:http://csu-karlskron.de/event/mitgliederversammlung-mit-neuwahlen-ju-karlskron-19-april-2023/
LOCATION:Landgasthof Haas\, Hauptstrasse 33\, Karlskron\, Bayern\, 85123\, Deutschland
END:VEVENT
BEGIN:VEVENT
DTSTART;VALUE=DATE:20230306
DTEND;VALUE=DATE:20230307
DTSTAMP:20260421T171830
CREATED:20230216T070014Z
LAST-MODIFIED:20230308T070631Z
UID:1836-1678060800-1678147199@csu-karlskron.de
SUMMARY:Ortshauptversammlung 06.03.2023
DESCRIPTION:Karlskron\, den 16. Februar 2023 \n  \nEinladung zur Ortshauptversammlung  \n  \nSehr geehrte Damen und Herren\, liebe Parteifreunde\, \n  \nhiermit lade ich Sie herzlich ein zu unserer \nOrtshauptversammlung mit Neuwahlen am 06.03.2023 um 19 Uhr beim  \nLandgasthof Haas in Karlskron \n  \nTagesordnung: \n\nEröffnung und Begrüßung\nWahlen\n\nBildung eines Wahlausschusses\nArbeitsbericht des Ortsvorstandes\nFinanzieller Rechenschaftsbericht\, Bericht der Kassenprüfer\nBericht der kommunalen Mandatsträgerinnen und Mandatsträger im Ortsverband\nBericht über Mitgliederentwicklung sowie über die Teilhabe von Frauen\, jungen Menschen und Menschen mit Behinderung\n\n\n\n               – Aussprache zu den Berichten – \n\nEntlastung des Ortsvorstandes\nNeuwahlen\n\nWahl der Mitglieder des Ortsvorstandes (Ortsvorsitzender\, Stellvertreter\, Schatzmeister\, Schriftführer\, Digitalbeauftragter\, Beisitzer)\nWahl von 2 Kassenprüfern\nWahl der Delegierten und Ersatzdelegierten in die Kreisvertreterversammlung\n\n\n\n\nEhrungen\nPolitische Themen\nVerschiedenes\n\n  \nEs würde mich sehr freuen\, wenn ich Sie alle persönlich begrüßen könnte. \n  \nMit freundlichen Grüßen \nIhr \nStefan Kumpf \nOrtsvorsitzender CSU Karlskron
URL:http://csu-karlskron.de/event/ortshauptversammlung-06-03-2023/
LOCATION:Landgasthof Haas\, Hauptstrasse 33\, Karlskron\, Bayern\, 85123\, Deutschland
END:VEVENT
BEGIN:VEVENT
DTSTART;TZID=Europe/Berlin:20230224T183000
DTEND;TZID=Europe/Berlin:20230224T220000
DTSTAMP:20260421T171830
CREATED:20230201T143222Z
LAST-MODIFIED:20230201T143222Z
UID:1821-1677263400-1677276000@csu-karlskron.de
SUMMARY:Schafkopfturnier 2023
DESCRIPTION:
URL:http://csu-karlskron.de/event/schafkopfturnier-2023/
LOCATION:Gasthof Felber
END:VEVENT
BEGIN:VEVENT
DTSTART;VALUE=DATE:20220612
DTEND;VALUE=DATE:20220613
DTSTAMP:20260421T171830
CREATED:20220511T074213Z
LAST-MODIFIED:20220511T074213Z
UID:1767-1654992000-1655078399@csu-karlskron.de
SUMMARY:Gesundheitswoche Karlskron: Frauenunion Kreisverband Neuburg-Schrobenhausen mit FU Karlskron
DESCRIPTION:Vortrag von Schwester Teresa\, die mit Hilfe Gottes den Krebs besiegt hat – Details folgen
URL:http://csu-karlskron.de/event/gesundheitswoche-karlskron-frauenunion-kreisverband-neuburg-schrobenhausen-mit-fu-karlskron/
LOCATION:Bürgerhaus Pobenhausen\, Schrobenhausener Straße 10\, Karlskron - Pobenhausen\, 85123\, Deutschland
END:VEVENT
BEGIN:VEVENT
DTSTART;VALUE=DATE:20220606
DTEND;VALUE=DATE:20220616
DTSTAMP:20260421T171830
CREATED:20220511T073746Z
LAST-MODIFIED:20220511T073746Z
UID:1764-1654473600-1655337599@csu-karlskron.de
SUMMARY:Gesundheitswoche: Frauenunion Kreisverband Neuburg-Schrobenhausen
DESCRIPTION:In den verschiedenen Ortsteilen des Landkreises finden Aktionen zur Gesundheitswoche statt.
URL:http://csu-karlskron.de/event/gesundheitswoche-frauenunion-kreisverband-neuburg-schrobenhausen/
END:VEVENT
BEGIN:VEVENT
DTSTART;TZID=Europe/Berlin:20220530T190000
DTEND;TZID=Europe/Berlin:20220530T210000
DTSTAMP:20260421T171830
CREATED:20220511T073352Z
LAST-MODIFIED:20220511T073352Z
UID:1754-1653937200-1653944400@csu-karlskron.de
SUMMARY:Stammtisch in Karlskron: Frauenunion Kreisverband Neuburg-Schrobenhausen
DESCRIPTION:
URL:http://csu-karlskron.de/event/stammtisch-in-karlskron-frauenunion-kreisverband-neuburg-schrobenhausen/
LOCATION:Landgasthof Haas\, Hauptstrasse 33\, Karlskron\, Bayern\, 85123\, Deutschland
END:VEVENT
BEGIN:VEVENT
DTSTART;TZID=Europe/Berlin:20220515T190000
DTEND;TZID=Europe/Berlin:20220515T210000
DTSTAMP:20260421T171830
CREATED:20220511T075906Z
LAST-MODIFIED:20220511T075906Z
UID:1771-1652641200-1652648400@csu-karlskron.de
SUMMARY:JU Jahreshauptversammlung
DESCRIPTION:
URL:http://csu-karlskron.de/event/ju-jahreshauptversammlung/
LOCATION:Landgasthof Haas\, Hauptstrasse 33\, Karlskron\, Bayern\, 85123\, Deutschland
END:VEVENT
BEGIN:VEVENT
DTSTART;TZID=Europe/Berlin:20200304T193000
DTEND;TZID=Europe/Berlin:20200304T220000
DTSTAMP:20260421T171830
CREATED:20200114T195703Z
LAST-MODIFIED:20200114T195710Z
UID:1202-1583350200-1583359200@csu-karlskron.de
SUMMARY:CSU Stammtisch 03/20
DESCRIPTION:Details folgen
URL:http://csu-karlskron.de/event/csu-stammtisch-03-20/
LOCATION:Landgasthof Haas\, Hauptstrasse 33\, Karlskron\, Bayern\, 85123\, Deutschland
END:VEVENT
BEGIN:VEVENT
DTSTART;TZID=Europe/Berlin:20200228T183000
DTEND;TZID=Europe/Berlin:20200228T230000
DTSTAMP:20260421T171830
CREATED:20200114T195556Z
LAST-MODIFIED:20200114T195556Z
UID:1199-1582914600-1582930800@csu-karlskron.de
SUMMARY:Schafkopfturnier
DESCRIPTION:
URL:http://csu-karlskron.de/event/schafkopfturnier-2/
LOCATION:Gasthof Felber
END:VEVENT
BEGIN:VEVENT
DTSTART;TZID=Europe/Berlin:20200226T053000
DTEND;TZID=Europe/Berlin:20200226T160000
DTSTAMP:20260421T171830
CREATED:20200114T195404Z
LAST-MODIFIED:20200114T195404Z
UID:1196-1582695000-1582732800@csu-karlskron.de
SUMMARY:Politischer Aschermittwoch - Fahrt nach Passau
DESCRIPTION:
URL:http://csu-karlskron.de/event/politischer-aschermittwoch-fahrt-nach-passau/
END:VEVENT
BEGIN:VEVENT
DTSTART;TZID=Europe/Berlin:20200217T190000
DTEND;TZID=Europe/Berlin:20200217T210000
DTSTAMP:20260421T171830
CREATED:20200114T195201Z
LAST-MODIFIED:20200114T195201Z
UID:1194-1581966000-1581973200@csu-karlskron.de
SUMMARY:CSU Wahlversammlung Karlskron
DESCRIPTION:Die CSU Karlskron lädt Sie recht herzlich zur Wahlversammlung am 17.02.2020 beim Landgasthof Haas in Karlskron ein. \nBeginn ist um 19 Uhr.
URL:http://csu-karlskron.de/event/csu-wahlversammlung-karlskron/
LOCATION:Landgasthof Haas\, Hauptstrasse 33\, Karlskron\, Bayern\, 85123\, Deutschland
END:VEVENT
BEGIN:VEVENT
DTSTART;TZID=Europe/Berlin:20200213T190000
DTEND;TZID=Europe/Berlin:20200213T210000
DTSTAMP:20260421T171830
CREATED:20200114T195025Z
LAST-MODIFIED:20200114T195025Z
UID:1191-1581620400-1581627600@csu-karlskron.de
SUMMARY:CSU Wahlversammlung Aschelsried
DESCRIPTION:Die CSU Karlskron lädt Sie recht herzlich zur Wahlversammlung am 13.02.2020 beim Gasthaus Felber in Aschelsried ein. \nBeginn ist um 19 Uhr.
URL:http://csu-karlskron.de/event/csu-wahlversammlung-aschelsried/
LOCATION:Gasthof Felber
END:VEVENT
BEGIN:VEVENT
DTSTART;TZID=Europe/Berlin:20200211T190000
DTEND;TZID=Europe/Berlin:20200211T210000
DTSTAMP:20260421T171830
CREATED:20200114T194816Z
LAST-MODIFIED:20200114T194816Z
UID:1188-1581447600-1581454800@csu-karlskron.de
SUMMARY:CSU Wahlversammlung in Pobenhausen
DESCRIPTION:Die CSU Karlskron lädt Sie recht herzlich zur Wahlversammlung am 11.02.2020 im Bürgerhaus in Pobenhausen ein.  \nBeginn ist um 19 Uhr. \n \n  \n  \n 
URL:http://csu-karlskron.de/event/csu-wahlversammlung-in-pobenhausen/
LOCATION:Bürgerhaus Pobenhausen\, Schrobenhausener Straße 10\, Karlskron - Pobenhausen\, 85123\, Deutschland
END:VEVENT
BEGIN:VEVENT
DTSTART;TZID=Europe/Berlin:20200205T193000
DTEND;TZID=Europe/Berlin:20200205T220000
DTSTAMP:20260421T171830
CREATED:20191114T065540Z
LAST-MODIFIED:20200114T194006Z
UID:1107-1580931000-1580940000@csu-karlskron.de
SUMMARY:CSU-Stammtisch 02/20
DESCRIPTION:
URL:http://csu-karlskron.de/event/csu-stammtisch-02-20/
LOCATION:Landgasthof Haas\, Hauptstrasse 33\, Karlskron\, Bayern\, 85123\, Deutschland
END:VEVENT
BEGIN:VEVENT
DTSTART;TZID=Europe/Berlin:20191106T193000
DTEND;TZID=Europe/Berlin:20191106T223000
DTSTAMP:20260421T171830
CREATED:20190313T085826Z
LAST-MODIFIED:20191011T124014Z
UID:642-1573068600-1573079400@csu-karlskron.de
SUMMARY:CSU-Stammtisch 11/19
DESCRIPTION:
URL:http://csu-karlskron.de/event/csu-stammtisch-11-19/
LOCATION:Landgasthof Haas\, Hauptstrasse 33\, Karlskron\, Bayern\, 85123\, Deutschland
END:VEVENT
BEGIN:VEVENT
DTSTART;TZID=Europe/Berlin:20191002T193000
DTEND;TZID=Europe/Berlin:20191002T223000
DTSTAMP:20260421T171830
CREATED:20190313T085749Z
LAST-MODIFIED:20190911T100214Z
UID:640-1570044600-1570055400@csu-karlskron.de
SUMMARY:CSU-Stammtisch 10/19
DESCRIPTION:
URL:http://csu-karlskron.de/event/csu-stammtisch-10-19/
LOCATION:Landgasthof Haas\, Hauptstrasse 33\, Karlskron\, Bayern\, 85123\, Deutschland
END:VEVENT
END:VCALENDAR